BEGIN:VCALENDAR
VERSION:2.0
PRODID:-//Destiny Church - ECPv5.16.3.1//NONSGML v1.0//EN
CALSCALE:GREGORIAN
METHOD:PUBLISH
X-WR-CALNAME:Destiny Church
X-ORIGINAL-URL:https://destinychurch.life
X-WR-CALDESC:Events for Destiny Church
BEGIN:VTIMEZONE
TZID:America/Chicago
BEGIN:DAYLIGHT
TZOFFSETFROM:-0600
TZOFFSETTO:-0500
TZNAME:CDT
DTSTART:20260308T080000
END:DAYLIGHT
BEGIN:STANDARD
TZOFFSETFROM:-0500
TZOFFSETTO:-0600
TZNAME:CST
DTSTART:20261101T070000
END:STANDARD
END:VTIMEZONE
BEGIN:VEVENT
DTSTART;TZID=America/Chicago:20260801T090000
DTEND;TZID=America/Chicago:20260801T110000
DTSTAMP:20260421T130719
CREATED:20250408T103430Z
LAST-MODIFIED:20250408T103430Z
UID:3769-1785574800-1785582000@destinychurch.life
SUMMARY:Men's Ministry Meeting
DESCRIPTION:
URL:https://destinychurch.life/event/mens-ministry-meeting-18/
END:VEVENT
END:VCALENDAR