BEGIN:VCALENDAR
VERSION:2.0
PRODID:-//Destiny Church - ECPv5.16.3.1//NONSGML v1.0//EN
CALSCALE:GREGORIAN
METHOD:PUBLISH
X-WR-CALNAME:Destiny Church
X-ORIGINAL-URL:https://destinychurch.life
X-WR-CALDESC:Events for Destiny Church
BEGIN:VTIMEZONE
TZID:America/Chicago
BEGIN:DAYLIGHT
TZOFFSETFROM:-0600
TZOFFSETTO:-0500
TZNAME:CDT
DTSTART:20250309T080000
END:DAYLIGHT
BEGIN:STANDARD
TZOFFSETFROM:-0500
TZOFFSETTO:-0600
TZNAME:CST
DTSTART:20251102T070000
END:STANDARD
END:VTIMEZONE
BEGIN:VEVENT
DTSTART;TZID=America/Chicago:20250816T090000
DTEND;TZID=America/Chicago:20250816T110000
DTSTAMP:20260425T152718
CREATED:20250408T103357Z
LAST-MODIFIED:20250408T103357Z
UID:3712-1755334800-1755342000@destinychurch.life
SUMMARY:Men's Ministry
DESCRIPTION:
URL:https://destinychurch.life/event/mens-ministry-7/
END:VEVENT
END:VCALENDAR