BEGIN:VCALENDAR
VERSION:2.0
PRODID:-//Destiny Church - ECPv5.16.3.1//NONSGML v1.0//EN
CALSCALE:GREGORIAN
METHOD:PUBLISH
X-WR-CALNAME:Destiny Church
X-ORIGINAL-URL:https://destinychurch.life
X-WR-CALDESC:Events for Destiny Church
BEGIN:VTIMEZONE
TZID:America/Chicago
BEGIN:DAYLIGHT
TZOFFSETFROM:-0600
TZOFFSETTO:-0500
TZNAME:CDT
DTSTART:20260308T080000
END:DAYLIGHT
BEGIN:STANDARD
TZOFFSETFROM:-0500
TZOFFSETTO:-0600
TZNAME:CST
DTSTART:20261101T070000
END:STANDARD
END:VTIMEZONE
BEGIN:VEVENT
DTSTART;TZID=America/Chicago:20260807T190000
DTEND;TZID=America/Chicago:20260807T200000
DTSTAMP:20260421T125009
CREATED:20250408T103431Z
LAST-MODIFIED:20250408T103431Z
UID:3771-1786129200-1786132800@destinychurch.life
SUMMARY:First Friday Prayer
DESCRIPTION:
URL:https://destinychurch.life/event/first-friday-prayer-21/
END:VEVENT
END:VCALENDAR